BEGIN:VCALENDAR
VERSION:2.0
BEGIN:VEVENT
URL:http://www.park-shin-hye.com/events/viewevent/1-presents-1st-fan-meeting 
DTSTART:20100821T230000
DTEND:20100822T003000
SUMMARY:Presents 1st Fan Meeting
DESCRIPTION:
Presents 1st Fan Meeting - Mnet Broadcast
「イケメンですね」1stファンミ Mnet Japanにて  8月21日(土)午後11:00～深夜0:30 放送予定 (90分) ＊番組詳細は→ こちら ●イケメンですねファンミグッズ通信販売 7/5 Start！ 詳細→ こちら
LOCATION:Japan
END:VEVENT
END:VCALENDAR