BEGIN:VCALENDAR
VERSION:2.0
BEGIN:VEVENT
URL:http://www.park-shin-hye.com/events/viewevent/10-isi-hati-aku 
DTSTART:20120513T000000
DTEND:20120514T235959
SUMMARY:isi hati aku
DESCRIPTION:
LOCATION:malaysia
END:VEVENT
END:VCALENDAR