BEGIN:VCALENDAR
VERSION:2.0
BEGIN:VEVENT
URL:http://www.park-shin-hye.com/events/viewevent/11-park-shin-hye-attends-vip-premiere-of-the-taste-of-money 
DTSTART:20120516T000000
DTEND:20120517T235959
SUMMARY:Park Shin Hye Attends VIP Premiere of "The Taste of Money"
DESCRIPTION:
LOCATION:morning calm village
END:VEVENT
END:VCALENDAR