BEGIN:VCALENDAR
VERSION:2.0
BEGIN:VEVENT
URL:http://www.park-shin-hye.com/events/viewevent/12-love 
DTSTART:20120627T000000
DTEND:20120628T235959
SUMMARY:love
DESCRIPTION:it changes my life completely!
LOCATION:my math classe`s corridor
END:VEVENT
END:VCALENDAR