BEGIN:VCALENDAR
VERSION:2.0
BEGIN:VEVENT
URL:http://www.park-shin-hye.com/events/viewevent/5-2011-hallyu-dream-concert 
DTSTART:20111003T203000
DTEND:20111004T120000
SUMMARY:2011 Hallyu Dream Concert
DESCRIPTION:Park Shin Hye will be the MC for the upcoming “Hallyu Dream Concert”. In this year’s concert, there will be several music bands, girls team and solo artists performing which includes:

Girl’s Generation

2PM

TVQX

SHINee

Miss A

GD&TOP

SE7EN

BEAST

4MInute

G. NA

Secret

ZE:A

KIm Gun Mo

Davichi

MBLAQ

SISTAR

INFINITE

andT-ARA.

The date for the concert will be on the 3rd October 2011, 18
LOCATION:GyeongJu Citizen Stadium
END:VEVENT
END:VCALENDAR