BEGIN:VCALENDAR
VERSION:2.0
BEGIN:VEVENT
URL:http://www.park-shin-hye.com/events/viewevent/6-frind 
DTSTART:20111120T040000
DTEND:20111120T060000
SUMMARY:frind
DESCRIPTION:i am happy
LOCATION:love
END:VEVENT
END:VCALENDAR