BEGIN:VCALENDAR
VERSION:2.0
BEGIN:VEVENT
URL:http://www.park-shin-hye.com/events/viewevent/7-nahid 
DTSTART:20110922T020000
DTEND:20110923T010000
SUMMARY:nahid
DESCRIPTION:iam happy
LOCATION:love
END:VEVENT
END:VCALENDAR