BEGIN:VCALENDAR
VERSION:2.0
BEGIN:VEVENT
URL:http://www.park-shin-hye.com/events/viewevent/9-park-shin-hye 
DTSTART:20120330T000000
DTEND:20120330T235959
SUMMARY:park shin hye
DESCRIPTION:
LOCATION:seouol
END:VEVENT
END:VCALENDAR